1.44669e-006
0.0
0.0
-7.85347e-007
86.91839762085
57.2181289935829
