1.44669e-006
0.0
0.0
-7.85347e-007
86.93286452085
57.2181289935829
