1.44669e-006
0.0
0.0
-7.85347e-007
86.94733142085001
57.1238873535829
