1.44669e-006
0.0
0.0
-7.85347e-007
86.96179832085001
57.1788616435829
