1.44669e-006
0.0
0.0
-7.85347e-007
86.97626522085
57.1867151135829
