1.44669e-006
0.0
0.0
-7.85347e-007
86.99073212085
57.2024220535829
