1.44669e-006
0.0
0.0
-7.85347e-007
87.00519902085
57.2024220535829
