1.46077e-006
0.0
0.0
-7.95085e-007
86.79520858211349
57.074581072109
