1.46077e-006
0.0
0.0
-7.95085e-007
86.80981628211349
57.082531922109
