1.46077e-006
0.0
0.0
-7.95085e-007
86.82442398211349
57.122286172109
