1.46077e-006
0.0
0.0
-7.95085e-007
86.83903168211349
57.090482772109
