1.46077e-006
0.0
0.0
-7.95085e-007
86.85363938211349
57.098433622109
