1.49386e-006
0.0
0.0
-8.12138e-007
86.67074993726099
57.10356865653721
