1.49386e-006
0.0
0.0
-8.12138e-007
86.68568853726099
57.11169003653721
