1.49386e-006
0.0
0.0
-8.12138e-007
86.820135937261
57.1604183165372
