1.49386e-006
0.0
0.0
-8.12138e-007
86.70062713726099
57.0792045165372
