1.49386e-006
0.0
0.0
-8.12138e-007
86.71556573726099
57.0710831365372
