1.49386e-006
0.0
0.0
-8.12138e-007
86.730504337261
57.1198114165372
