1.49386e-006
0.0
0.0
-8.12138e-007
86.730504337261
57.0873258965372
