1.49386e-006
0.0
0.0
-8.12138e-007
86.74544293726099
57.1279327965372
