1.49386e-006
0.0
0.0
-8.12138e-007
86.760381537261
57.1360541765372
