1.49386e-006
0.0
0.0
-8.12138e-007
86.77532013726099
57.14417555653721
