1.44522e-006
0.0
0.0
-7.97642e-007
83.23052210543099
56.5606650217539
