1.44522e-006
0.0
0.0
-7.97642e-007
83.24497430543099
56.58459428175389
