1.44522e-006
0.0
0.0
-7.97642e-007
83.25942650543099
56.5686414417539
