1.44522e-006
0.0
0.0
-7.97642e-007
83.27387870543099
56.5766178617539
