1.44522e-006
0.0
0.0
-7.97642e-007
83.288330905431
56.6085235417539
