1.44522e-006
0.0
0.0
-7.97642e-007
83.317235305431
56.5686414417539
