1.44522e-006
0.0
0.0
-7.97642e-007
83.33168750543099
56.6005471217539
