1.44522e-006
0.0
0.0
-7.97642e-007
83.34613970543099
56.5925707017539
