1.48125e-006
0.0
0.0
-8.18406e-007
83.32796403283339
56.5192744117785
