1.48125e-006
0.0
0.0
-8.18406e-007
83.37240153283339
56.5192744117785
