1.48125e-006
0.0
0.0
-8.18406e-007
83.3872140328334
56.5520106517785
