1.48125e-006
0.0
0.0
-8.18406e-007
83.41683903283339
56.5356425317785
