1.46914e-006
0.0
0.0
-8.07301e-007
83.36522755468209
56.75529702309019
