1.46914e-006
0.0
0.0
-8.07301e-007
83.39461035468209
56.72300498309019
