1.46914e-006
0.0
0.0
-8.07301e-007
83.40930175468209
56.7149319730902
