1.46914e-006
0.0
0.0
-8.07301e-007
83.42399315468209
56.72300498309019
