1.46914e-006
0.0
0.0
-8.07301e-007
83.4386845546821
56.72300498309019
