1.46914e-006
0.0
0.0
-8.07301e-007
83.45337595468209
56.73915100309019
